BEGIN:VCALENDAR
VERSION:2.0
PRODID:-//WhenKickoff//Match Reminder//EN
BEGIN:VEVENT
UID:wk-542577-15@whenkickoff.com
DTSTAMP:20260420T194538Z
DTSTART:20260131T200500Z
DTEND:20260131T220500Z
SUMMARY:AS Monaco FC vs Stade Rennais FC 1901
DESCRIPTION:WhenKickoff reminder for AS Monaco FC vs Stade Rennais FC 1901
URL:https://whenkickoff.com/en/match/as-monaco-fc-vs-stade-rennais-fc-1901-542577/
BEGIN:VALARM
TRIGGER:-PT15M
ACTION:DISPLAY
DESCRIPTION:Match starts soon
END:VALARM
END:VEVENT
END:VCALENDAR
