BEGIN:VCALENDAR
VERSION:2.0
PRODID:-//WhenKickoff//Match Reminder//EN
BEGIN:VEVENT
UID:wk-542576-15@whenkickoff.com
DTSTAMP:20260420T153026Z
DTSTART:20260124T160000Z
DTEND:20260124T180000Z
SUMMARY:Stade Rennais FC 1901 vs FC Lorient
DESCRIPTION:WhenKickoff reminder for Stade Rennais FC 1901 vs FC Lorient
URL:https://whenkickoff.com/en/match/stade-rennais-fc-1901-vs-fc-lorient-542576/
BEGIN:VALARM
TRIGGER:-PT15M
ACTION:DISPLAY
DESCRIPTION:Match starts soon
END:VALARM
END:VEVENT
END:VCALENDAR
