BEGIN:VCALENDAR
VERSION:2.0
PRODID:-//WhenKickoff//Match Reminder//EN
BEGIN:VEVENT
UID:wk-542575-15@whenkickoff.com
DTSTAMP:20260420T133309Z
DTSTART:20260125T161500Z
DTEND:20260125T181500Z
SUMMARY:Stade Brestois 29 vs Toulouse FC
DESCRIPTION:WhenKickoff reminder for Stade Brestois 29 vs Toulouse FC
URL:https://whenkickoff.com/en/match/stade-brestois-29-vs-toulouse-fc-542575/
BEGIN:VALARM
TRIGGER:-PT15M
ACTION:DISPLAY
DESCRIPTION:Match starts soon
END:VALARM
END:VEVENT
END:VCALENDAR
