BEGIN:VCALENDAR
VERSION:2.0
PRODID:-//WhenKickoff//Match Reminder//EN
BEGIN:VEVENT
UID:wk-542574-15@whenkickoff.com
DTSTAMP:20260420T133359Z
DTSTART:20260125T194500Z
DTEND:20260125T214500Z
SUMMARY:Lille OSC vs RC Strasbourg Alsace
DESCRIPTION:WhenKickoff reminder for Lille OSC vs RC Strasbourg Alsace
URL:https://whenkickoff.com/en/match/lille-osc-vs-rc-strasbourg-alsace-542574/
BEGIN:VALARM
TRIGGER:-PT15M
ACTION:DISPLAY
DESCRIPTION:Match starts soon
END:VALARM
END:VEVENT
END:VCALENDAR
