BEGIN:VCALENDAR
VERSION:2.0
PRODID:-//WhenKickoff//Match Reminder//EN
BEGIN:VEVENT
UID:wk-542573-15@whenkickoff.com
DTSTAMP:20260420T153025Z
DTSTART:20260124T200500Z
DTEND:20260124T220500Z
SUMMARY:Olympique de Marseille vs Racing Club de Lens
DESCRIPTION:WhenKickoff reminder for Olympique de Marseille vs Racing Club de Lens
URL:https://whenkickoff.com/en/match/olympique-de-marseille-vs-racing-club-de-lens-542573/
BEGIN:VALARM
TRIGGER:-PT15M
ACTION:DISPLAY
DESCRIPTION:Match starts soon
END:VALARM
END:VEVENT
END:VCALENDAR
