BEGIN:VCALENDAR
VERSION:2.0
PRODID:-//WhenKickoff//Match Reminder//EN
BEGIN:VEVENT
UID:wk-542572-15@whenkickoff.com
DTSTAMP:20260420T133400Z
DTSTART:20260125T161500Z
DTEND:20260125T181500Z
SUMMARY:Paris FC vs Angers SCO
DESCRIPTION:WhenKickoff reminder for Paris FC vs Angers SCO
URL:https://whenkickoff.com/en/match/paris-fc-vs-angers-sco-542572/
BEGIN:VALARM
TRIGGER:-PT15M
ACTION:DISPLAY
DESCRIPTION:Match starts soon
END:VALARM
END:VEVENT
END:VCALENDAR
