BEGIN:VCALENDAR
VERSION:2.0
PRODID:-//WhenKickoff//Match Reminder//EN
BEGIN:VEVENT
UID:wk-542571-15@whenkickoff.com
DTSTAMP:20260420T133400Z
DTSTART:20260125T140000Z
DTEND:20260125T160000Z
SUMMARY:FC Nantes vs OGC Nice
DESCRIPTION:WhenKickoff reminder for FC Nantes vs OGC Nice
URL:https://whenkickoff.com/en/match/fc-nantes-vs-ogc-nice-542571/
BEGIN:VALARM
TRIGGER:-PT15M
ACTION:DISPLAY
DESCRIPTION:Match starts soon
END:VALARM
END:VEVENT
END:VCALENDAR
