BEGIN:VCALENDAR
VERSION:2.0
PRODID:-//WhenKickoff//Match Reminder//EN
BEGIN:VEVENT
UID:wk-542570-15@whenkickoff.com
DTSTAMP:20260420T133358Z
DTSTART:20260125T161500Z
DTEND:20260125T181500Z
SUMMARY:FC Metz vs Olympique Lyonnais
DESCRIPTION:WhenKickoff reminder for FC Metz vs Olympique Lyonnais
URL:https://whenkickoff.com/en/match/fc-metz-vs-olympique-lyonnais-542570/
BEGIN:VALARM
TRIGGER:-PT15M
ACTION:DISPLAY
DESCRIPTION:Match starts soon
END:VALARM
END:VEVENT
END:VCALENDAR
