BEGIN:VCALENDAR
VERSION:2.0
PRODID:-//WhenKickoff//Match Reminder//EN
BEGIN:VEVENT
UID:wk-542569-15@whenkickoff.com
DTSTAMP:20260420T153025Z
DTSTART:20260123T190000Z
DTEND:20260123T210000Z
SUMMARY:AJ Auxerre vs Paris Saint-Germain FC
DESCRIPTION:WhenKickoff reminder for AJ Auxerre vs Paris Saint-Germain FC
URL:https://whenkickoff.com/en/match/aj-auxerre-vs-paris-saint-germain-fc-542569/
BEGIN:VALARM
TRIGGER:-PT15M
ACTION:DISPLAY
DESCRIPTION:Match starts soon
END:VALARM
END:VEVENT
END:VCALENDAR
