BEGIN:VCALENDAR
VERSION:2.0
PRODID:-//WhenKickoff//Match Reminder//EN
BEGIN:VEVENT
UID:wk-542568-15@whenkickoff.com
DTSTAMP:20260420T153057Z
DTSTART:20260124T180000Z
DTEND:20260124T200000Z
SUMMARY:Le Havre AC vs AS Monaco FC
DESCRIPTION:WhenKickoff reminder for Le Havre AC vs AS Monaco FC
URL:https://whenkickoff.com/en/match/le-havre-ac-vs-as-monaco-fc-542568/
BEGIN:VALARM
TRIGGER:-PT15M
ACTION:DISPLAY
DESCRIPTION:Match starts soon
END:VALARM
END:VEVENT
END:VCALENDAR
