BEGIN:VCALENDAR
VERSION:2.0
PRODID:-//WhenKickoff//Match Reminder//EN
BEGIN:VEVENT
UID:wk-542566-15@whenkickoff.com
DTSTAMP:20260420T102901Z
DTSTART:20260117T200500Z
DTEND:20260117T220500Z
SUMMARY:Angers SCO vs Olympique de Marseille
DESCRIPTION:WhenKickoff reminder for Angers SCO vs Olympique de Marseille
URL:https://whenkickoff.com/en/match/angers-sco-vs-olympique-de-marseille-542566/
BEGIN:VALARM
TRIGGER:-PT15M
ACTION:DISPLAY
DESCRIPTION:Match starts soon
END:VALARM
END:VEVENT
END:VCALENDAR
