BEGIN:VCALENDAR
VERSION:2.0
PRODID:-//WhenKickoff//Match Reminder//EN
BEGIN:VEVENT
UID:wk-542565-15@whenkickoff.com
DTSTAMP:20260420T120337Z
DTSTART:20260117T160000Z
DTEND:20260117T180000Z
SUMMARY:Racing Club de Lens vs AJ Auxerre
DESCRIPTION:WhenKickoff reminder for Racing Club de Lens vs AJ Auxerre
URL:https://whenkickoff.com/en/match/racing-club-de-lens-vs-aj-auxerre-542565/
BEGIN:VALARM
TRIGGER:-PT15M
ACTION:DISPLAY
DESCRIPTION:Match starts soon
END:VALARM
END:VEVENT
END:VCALENDAR
