BEGIN:VCALENDAR
VERSION:2.0
PRODID:-//WhenKickoff//Match Reminder//EN
BEGIN:VEVENT
UID:wk-542563-15@whenkickoff.com
DTSTAMP:20260420T083925Z
DTSTART:20260116T200000Z
DTEND:20260116T220000Z
SUMMARY:Paris Saint-Germain FC vs Lille OSC
DESCRIPTION:WhenKickoff reminder for Paris Saint-Germain FC vs Lille OSC
URL:https://whenkickoff.com/en/match/paris-saint-germain-fc-vs-lille-osc-542563/
BEGIN:VALARM
TRIGGER:-PT15M
ACTION:DISPLAY
DESCRIPTION:Match starts soon
END:VALARM
END:VEVENT
END:VCALENDAR
