BEGIN:VCALENDAR
VERSION:2.0
PRODID:-//WhenKickoff//Match Reminder//EN
BEGIN:VEVENT
UID:wk-542562-15@whenkickoff.com
DTSTAMP:20260420T102941Z
DTSTART:20260118T194500Z
DTEND:20260118T214500Z
SUMMARY:Olympique Lyonnais vs Stade Brestois 29
DESCRIPTION:WhenKickoff reminder for Olympique Lyonnais vs Stade Brestois 29
URL:https://whenkickoff.com/en/match/olympique-lyonnais-vs-stade-brestois-29-542562/
BEGIN:VALARM
TRIGGER:-PT15M
ACTION:DISPLAY
DESCRIPTION:Match starts soon
END:VALARM
END:VEVENT
END:VCALENDAR
