BEGIN:VCALENDAR
VERSION:2.0
PRODID:-//WhenKickoff//Match Reminder//EN
BEGIN:VEVENT
UID:wk-542561-15@whenkickoff.com
DTSTAMP:20260420T102940Z
DTSTART:20260117T180000Z
DTEND:20260117T200000Z
SUMMARY:Toulouse FC vs OGC Nice
DESCRIPTION:WhenKickoff reminder for Toulouse FC vs OGC Nice
URL:https://whenkickoff.com/en/match/toulouse-fc-vs-ogc-nice-542561/
BEGIN:VALARM
TRIGGER:-PT15M
ACTION:DISPLAY
DESCRIPTION:Match starts soon
END:VALARM
END:VEVENT
END:VCALENDAR
