BEGIN:VCALENDAR
VERSION:2.0
PRODID:-//WhenKickoff//Match Reminder//EN
BEGIN:VEVENT
UID:wk-542560-15@whenkickoff.com
DTSTAMP:20260420T102906Z
DTSTART:20260118T161500Z
DTEND:20260118T181500Z
SUMMARY:FC Nantes vs Paris FC
DESCRIPTION:WhenKickoff reminder for FC Nantes vs Paris FC
URL:https://whenkickoff.com/en/match/fc-nantes-vs-paris-fc-542560/
BEGIN:VALARM
TRIGGER:-PT15M
ACTION:DISPLAY
DESCRIPTION:Match starts soon
END:VALARM
END:VEVENT
END:VCALENDAR
