BEGIN:VCALENDAR
VERSION:2.0
PRODID:-//WhenKickoff//Match Reminder//EN
BEGIN:VEVENT
UID:wk-542557-15@whenkickoff.com
DTSTAMP:20260420T211518Z
DTSTART:20260104T194500Z
DTEND:20260104T214500Z
SUMMARY:Paris Saint-Germain FC vs Paris FC
DESCRIPTION:WhenKickoff reminder for Paris Saint-Germain FC vs Paris FC
URL:https://whenkickoff.com/en/match/paris-saint-germain-fc-vs-paris-fc-542557/
BEGIN:VALARM
TRIGGER:-PT15M
ACTION:DISPLAY
DESCRIPTION:Match starts soon
END:VALARM
END:VEVENT
END:VCALENDAR
