BEGIN:VCALENDAR
VERSION:2.0
PRODID:-//WhenKickoff//Match Reminder//EN
BEGIN:VEVENT
UID:wk-542554-15@whenkickoff.com
DTSTAMP:20260420T175319Z
DTSTART:20260103T180000Z
DTEND:20260103T200000Z
SUMMARY:OGC Nice vs RC Strasbourg Alsace
DESCRIPTION:WhenKickoff reminder for OGC Nice vs RC Strasbourg Alsace
URL:https://whenkickoff.com/en/match/ogc-nice-vs-rc-strasbourg-alsace-542554/
BEGIN:VALARM
TRIGGER:-PT15M
ACTION:DISPLAY
DESCRIPTION:Match starts soon
END:VALARM
END:VEVENT
END:VCALENDAR
