BEGIN:VCALENDAR
VERSION:2.0
PRODID:-//WhenKickoff//Match Reminder//EN
BEGIN:VEVENT
UID:wk-542553-15@whenkickoff.com
DTSTAMP:20260420T213719Z
DTSTART:20260102T194500Z
DTEND:20260102T214500Z
SUMMARY:Toulouse FC vs Racing Club de Lens
DESCRIPTION:WhenKickoff reminder for Toulouse FC vs Racing Club de Lens
URL:https://whenkickoff.com/en/match/toulouse-fc-vs-racing-club-de-lens-542553/
BEGIN:VALARM
TRIGGER:-PT15M
ACTION:DISPLAY
DESCRIPTION:Match starts soon
END:VALARM
END:VEVENT
END:VCALENDAR
