BEGIN:VCALENDAR
VERSION:2.0
PRODID:-//WhenKickoff//Match Reminder//EN
BEGIN:VEVENT
UID:wk-542550-15@whenkickoff.com
DTSTAMP:20260420T175319Z
DTSTART:20260104T161500Z
DTEND:20260104T181500Z
SUMMARY:Le Havre AC vs Angers SCO
DESCRIPTION:WhenKickoff reminder for Le Havre AC vs Angers SCO
URL:https://whenkickoff.com/en/match/le-havre-ac-vs-angers-sco-542550/
BEGIN:VALARM
TRIGGER:-PT15M
ACTION:DISPLAY
DESCRIPTION:Match starts soon
END:VALARM
END:VEVENT
END:VCALENDAR
