BEGIN:VCALENDAR
VERSION:2.0
PRODID:-//WhenKickoff//Match Reminder//EN
BEGIN:VEVENT
UID:wk-541263-15@whenkickoff.com
DTSTAMP:20260419T200127Z
DTSTART:20260502T113000Z
DTEND:20260502T133000Z
SUMMARY:Wrexham AFC vs Middlesbrough FC
DESCRIPTION:WhenKickoff reminder for Wrexham AFC vs Middlesbrough FC
URL:https://whenkickoff.com/en/match/wrexham-afc-vs-middlesbrough-fc-541263/
BEGIN:VALARM
TRIGGER:-PT15M
ACTION:DISPLAY
DESCRIPTION:Match starts soon
END:VALARM
END:VEVENT
END:VCALENDAR
