BEGIN:VCALENDAR
VERSION:2.0
PRODID:-//WhenKickoff//Match Reminder//EN
BEGIN:VEVENT
UID:wk-541259-15@whenkickoff.com
DTSTAMP:20260419T173005Z
DTSTART:20260502T113000Z
DTEND:20260502T133000Z
SUMMARY:Preston North End FC vs Southampton FC
DESCRIPTION:WhenKickoff reminder for Preston North End FC vs Southampton FC
URL:https://whenkickoff.com/en/match/preston-north-end-fc-vs-southampton-fc-541259/
BEGIN:VALARM
TRIGGER:-PT15M
ACTION:DISPLAY
DESCRIPTION:Match starts soon
END:VALARM
END:VEVENT
END:VCALENDAR
