BEGIN:VCALENDAR
VERSION:2.0
PRODID:-//WhenKickoff//Match Reminder//EN
BEGIN:VEVENT
UID:wk-541255-15@whenkickoff.com
DTSTAMP:20260419T184839Z
DTSTART:20260502T113000Z
DTEND:20260502T133000Z
SUMMARY:Hull City AFC vs Norwich City FC
DESCRIPTION:WhenKickoff reminder for Hull City AFC vs Norwich City FC
URL:https://whenkickoff.com/en/match/hull-city-afc-vs-norwich-city-fc-541255/
BEGIN:VALARM
TRIGGER:-PT15M
ACTION:DISPLAY
DESCRIPTION:Match starts soon
END:VALARM
END:VEVENT
END:VCALENDAR
