BEGIN:VCALENDAR
VERSION:2.0
PRODID:-//WhenKickoff//Match Reminder//EN
BEGIN:VEVENT
UID:wk-541252-15@whenkickoff.com
DTSTAMP:20260419T135920Z
DTSTART:20260502T113000Z
DTEND:20260502T133000Z
SUMMARY:Blackburn Rovers FC vs Leicester City FC
DESCRIPTION:WhenKickoff reminder for Blackburn Rovers FC vs Leicester City FC
URL:https://whenkickoff.com/en/match/blackburn-rovers-fc-vs-leicester-city-fc-541252/
BEGIN:VALARM
TRIGGER:-PT15M
ACTION:DISPLAY
DESCRIPTION:Match starts soon
END:VALARM
END:VEVENT
END:VCALENDAR
