BEGIN:VCALENDAR
VERSION:2.0
PRODID:-//WhenKickoff//Match Reminder//EN
BEGIN:VEVENT
UID:wk-541240-15@whenkickoff.com
DTSTAMP:20260419T184839Z
DTSTART:20260425T140000Z
DTEND:20260425T160000Z
SUMMARY:Birmingham City FC vs Bristol City FC
DESCRIPTION:WhenKickoff reminder for Birmingham City FC vs Bristol City FC
URL:https://whenkickoff.com/en/match/birmingham-city-fc-vs-bristol-city-fc-541240/
BEGIN:VALARM
TRIGGER:-PT15M
ACTION:DISPLAY
DESCRIPTION:Match starts soon
END:VALARM
END:VEVENT
END:VCALENDAR
