BEGIN:VCALENDAR
VERSION:2.0
PRODID:-//WhenKickoff//Match Reminder//EN
BEGIN:VEVENT
UID:wk-541200-15@whenkickoff.com
DTSTAMP:20260419T184839Z
DTSTART:20260406T140000Z
DTEND:20260406T160000Z
SUMMARY:Sheffield Wednesday FC vs Leicester City FC
DESCRIPTION:WhenKickoff reminder for Sheffield Wednesday FC vs Leicester City FC
URL:https://whenkickoff.com/en/match/sheffield-wednesday-fc-vs-leicester-city-fc-541200/
BEGIN:VALARM
TRIGGER:-PT15M
ACTION:DISPLAY
DESCRIPTION:Match starts soon
END:VALARM
END:VEVENT
END:VCALENDAR
