BEGIN:VCALENDAR
VERSION:2.0
PRODID:-//WhenKickoff//Match Reminder//EN
BEGIN:VEVENT
UID:wk-541196-15@whenkickoff.com
DTSTAMP:20260419T152627Z
DTSTART:20260406T140000Z
DTEND:20260406T160000Z
SUMMARY:Ipswich Town FC vs Birmingham City FC
DESCRIPTION:WhenKickoff reminder for Ipswich Town FC vs Birmingham City FC
URL:https://whenkickoff.com/en/match/ipswich-town-fc-vs-birmingham-city-fc-541196/
BEGIN:VALARM
TRIGGER:-PT15M
ACTION:DISPLAY
DESCRIPTION:Match starts soon
END:VALARM
END:VEVENT
END:VCALENDAR
