BEGIN:VCALENDAR
VERSION:2.0
PRODID:-//WhenKickoff//Match Reminder//EN
BEGIN:VEVENT
UID:wk-541193-15@whenkickoff.com
DTSTAMP:20260419T201248Z
DTSTART:20260406T140000Z
DTEND:20260406T160000Z
SUMMARY:Bristol City FC vs Sheffield United FC
DESCRIPTION:WhenKickoff reminder for Bristol City FC vs Sheffield United FC
URL:https://whenkickoff.com/en/match/bristol-city-fc-vs-sheffield-united-fc-541193/
BEGIN:VALARM
TRIGGER:-PT15M
ACTION:DISPLAY
DESCRIPTION:Match starts soon
END:VALARM
END:VEVENT
END:VCALENDAR
