BEGIN:VCALENDAR
VERSION:2.0
PRODID:-//WhenKickoff//Match Reminder//EN
BEGIN:VEVENT
UID:wk-541185-15@whenkickoff.com
DTSTAMP:20260419T163039Z
DTSTART:20260403T140000Z
DTEND:20260403T160000Z
SUMMARY:Norwich City FC vs Portsmouth FC
DESCRIPTION:WhenKickoff reminder for Norwich City FC vs Portsmouth FC
URL:https://whenkickoff.com/en/match/norwich-city-fc-vs-portsmouth-fc-541185/
BEGIN:VALARM
TRIGGER:-PT15M
ACTION:DISPLAY
DESCRIPTION:Match starts soon
END:VALARM
END:VEVENT
END:VCALENDAR
