BEGIN:VCALENDAR
VERSION:2.0
PRODID:-//WhenKickoff//Match Reminder//EN
BEGIN:VEVENT
UID:wk-541183-15@whenkickoff.com
DTSTAMP:20260419T173005Z
DTSTART:20260403T140000Z
DTEND:20260403T160000Z
SUMMARY:Leicester City FC vs Preston North End FC
DESCRIPTION:WhenKickoff reminder for Leicester City FC vs Preston North End FC
URL:https://whenkickoff.com/en/match/leicester-city-fc-vs-preston-north-end-fc-541183/
BEGIN:VALARM
TRIGGER:-PT15M
ACTION:DISPLAY
DESCRIPTION:Match starts soon
END:VALARM
END:VEVENT
END:VCALENDAR
