BEGIN:VCALENDAR
VERSION:2.0
PRODID:-//WhenKickoff//Match Reminder//EN
BEGIN:VEVENT
UID:wk-541177-15@whenkickoff.com
DTSTAMP:20260419T192357Z
DTSTART:20260321T150000Z
DTEND:20260321T170000Z
SUMMARY:Southampton FC vs Oxford United FC
DESCRIPTION:WhenKickoff reminder for Southampton FC vs Oxford United FC
URL:https://whenkickoff.com/en/match/southampton-fc-vs-oxford-united-fc-541177/
BEGIN:VALARM
TRIGGER:-PT15M
ACTION:DISPLAY
DESCRIPTION:Match starts soon
END:VALARM
END:VEVENT
END:VCALENDAR
