BEGIN:VCALENDAR
VERSION:2.0
PRODID:-//WhenKickoff//Match Reminder//EN
BEGIN:VEVENT
UID:wk-541170-15@whenkickoff.com
DTSTAMP:20260419T201422Z
DTSTART:20260321T150000Z
DTEND:20260321T170000Z
SUMMARY:Charlton Athletic FC vs Norwich City FC
DESCRIPTION:WhenKickoff reminder for Charlton Athletic FC vs Norwich City FC
URL:https://whenkickoff.com/en/match/charlton-athletic-fc-vs-norwich-city-fc-541170/
BEGIN:VALARM
TRIGGER:-PT15M
ACTION:DISPLAY
DESCRIPTION:Match starts soon
END:VALARM
END:VEVENT
END:VCALENDAR
