BEGIN:VCALENDAR
VERSION:2.0
PRODID:-//WhenKickoff//Match Reminder//EN
BEGIN:VEVENT
UID:wk-541169-15@whenkickoff.com
DTSTAMP:20260419T183835Z
DTSTART:20260321T150000Z
DTEND:20260321T170000Z
SUMMARY:Bristol City FC vs West Bromwich Albion FC
DESCRIPTION:WhenKickoff reminder for Bristol City FC vs West Bromwich Albion FC
URL:https://whenkickoff.com/en/match/bristol-city-fc-vs-west-bromwich-albion-fc-541169/
BEGIN:VALARM
TRIGGER:-PT15M
ACTION:DISPLAY
DESCRIPTION:Match starts soon
END:VALARM
END:VEVENT
END:VCALENDAR
