BEGIN:VCALENDAR
VERSION:2.0
PRODID:-//WhenKickoff//Match Reminder//EN
BEGIN:VEVENT
UID:wk-541165-15@whenkickoff.com
DTSTAMP:20260419T165238Z
DTSTART:20260314T150000Z
DTEND:20260314T170000Z
SUMMARY:Stoke City FC vs Watford FC
DESCRIPTION:WhenKickoff reminder for Stoke City FC vs Watford FC
URL:https://whenkickoff.com/en/match/stoke-city-fc-vs-watford-fc-541165/
BEGIN:VALARM
TRIGGER:-PT15M
ACTION:DISPLAY
DESCRIPTION:Match starts soon
END:VALARM
END:VEVENT
END:VCALENDAR
