BEGIN:VCALENDAR
VERSION:2.0
PRODID:-//WhenKickoff//Match Reminder//EN
BEGIN:VEVENT
UID:wk-541149-15@whenkickoff.com
DTSTAMP:20260420T005802Z
DTSTART:20260310T194500Z
DTEND:20260310T214500Z
SUMMARY:Sheffield Wednesday FC vs Watford FC
DESCRIPTION:WhenKickoff reminder for Sheffield Wednesday FC vs Watford FC
URL:https://whenkickoff.com/en/match/sheffield-wednesday-fc-vs-watford-fc-541149/
BEGIN:VALARM
TRIGGER:-PT15M
ACTION:DISPLAY
DESCRIPTION:Match starts soon
END:VALARM
END:VEVENT
END:VCALENDAR
