BEGIN:VCALENDAR
VERSION:2.0
PRODID:-//WhenKickoff//Match Reminder//EN
BEGIN:VEVENT
UID:wk-541148-15@whenkickoff.com
DTSTAMP:20260420T005704Z
DTSTART:20260310T194500Z
DTEND:20260310T214500Z
SUMMARY:Portsmouth FC vs Swansea City AFC
DESCRIPTION:WhenKickoff reminder for Portsmouth FC vs Swansea City AFC
URL:https://whenkickoff.com/en/match/portsmouth-fc-vs-swansea-city-afc-541148/
BEGIN:VALARM
TRIGGER:-PT15M
ACTION:DISPLAY
DESCRIPTION:Match starts soon
END:VALARM
END:VEVENT
END:VCALENDAR
