BEGIN:VCALENDAR
VERSION:2.0
PRODID:-//WhenKickoff//Match Reminder//EN
BEGIN:VEVENT
UID:wk-541144-15@whenkickoff.com
DTSTAMP:20260419T165238Z
DTSTART:20260311T194500Z
DTEND:20260311T214500Z
SUMMARY:Birmingham City FC vs Queens Park Rangers FC
DESCRIPTION:WhenKickoff reminder for Birmingham City FC vs Queens Park Rangers FC
URL:https://whenkickoff.com/en/match/birmingham-city-fc-vs-queens-park-rangers-fc-541144/
BEGIN:VALARM
TRIGGER:-PT15M
ACTION:DISPLAY
DESCRIPTION:Match starts soon
END:VALARM
END:VEVENT
END:VCALENDAR
