BEGIN:VCALENDAR
VERSION:2.0
PRODID:-//WhenKickoff//Match Reminder//EN
BEGIN:VEVENT
UID:wk-541143-15@whenkickoff.com
DTSTAMP:20260419T234203Z
DTSTART:20260317T194500Z
DTEND:20260317T214500Z
SUMMARY:Watford FC vs Wrexham AFC
DESCRIPTION:WhenKickoff reminder for Watford FC vs Wrexham AFC
URL:https://whenkickoff.com/en/match/watford-fc-vs-wrexham-afc-541143/
BEGIN:VALARM
TRIGGER:-PT15M
ACTION:DISPLAY
DESCRIPTION:Match starts soon
END:VALARM
END:VEVENT
END:VCALENDAR
