BEGIN:VCALENDAR
VERSION:2.0
PRODID:-//WhenKickoff//Match Reminder//EN
BEGIN:VEVENT
UID:wk-541131-15@whenkickoff.com
DTSTAMP:20260420T013949Z
DTSTART:20260228T150000Z
DTEND:20260228T170000Z
SUMMARY:Sheffield Wednesday FC vs Southampton FC
DESCRIPTION:WhenKickoff reminder for Sheffield Wednesday FC vs Southampton FC
URL:https://whenkickoff.com/en/match/sheffield-wednesday-fc-vs-southampton-fc-541131/
BEGIN:VALARM
TRIGGER:-PT15M
ACTION:DISPLAY
DESCRIPTION:Match starts soon
END:VALARM
END:VEVENT
END:VCALENDAR
