BEGIN:VCALENDAR
VERSION:2.0
PRODID:-//WhenKickoff//Match Reminder//EN
BEGIN:VEVENT
UID:wk-541128-15@whenkickoff.com
DTSTAMP:20260419T193733Z
DTSTART:20260228T123000Z
DTEND:20260228T143000Z
SUMMARY:Portsmouth FC vs Hull City AFC
DESCRIPTION:WhenKickoff reminder for Portsmouth FC vs Hull City AFC
URL:https://whenkickoff.com/en/match/portsmouth-fc-vs-hull-city-afc-541128/
BEGIN:VALARM
TRIGGER:-PT15M
ACTION:DISPLAY
DESCRIPTION:Match starts soon
END:VALARM
END:VEVENT
END:VCALENDAR
