BEGIN:VCALENDAR
VERSION:2.0
PRODID:-//WhenKickoff//Match Reminder//EN
BEGIN:VEVENT
UID:wk-541120-15@whenkickoff.com
DTSTAMP:20260420T033733Z
DTSTART:20260302T200000Z
DTEND:20260302T220000Z
SUMMARY:Birmingham City FC vs Middlesbrough FC
DESCRIPTION:WhenKickoff reminder for Birmingham City FC vs Middlesbrough FC
URL:https://whenkickoff.com/en/match/birmingham-city-fc-vs-middlesbrough-fc-541120/
BEGIN:VALARM
TRIGGER:-PT15M
ACTION:DISPLAY
DESCRIPTION:Match starts soon
END:VALARM
END:VEVENT
END:VCALENDAR
