BEGIN:VCALENDAR
VERSION:2.0
PRODID:-//WhenKickoff//Match Reminder//EN
BEGIN:VEVENT
UID:wk-541117-15@whenkickoff.com
DTSTAMP:20260419T215120Z
DTSTART:20260225T194500Z
DTEND:20260225T214500Z
SUMMARY:Millwall FC vs Birmingham City FC
DESCRIPTION:WhenKickoff reminder for Millwall FC vs Birmingham City FC
URL:https://whenkickoff.com/en/match/millwall-fc-vs-birmingham-city-fc-541117/
BEGIN:VALARM
TRIGGER:-PT15M
ACTION:DISPLAY
DESCRIPTION:Match starts soon
END:VALARM
END:VEVENT
END:VCALENDAR
