BEGIN:VCALENDAR
VERSION:2.0
PRODID:-//WhenKickoff//Match Reminder//EN
BEGIN:VEVENT
UID:wk-541112-15@whenkickoff.com
DTSTAMP:20260419T232317Z
DTSTART:20260224T194500Z
DTEND:20260224T214500Z
SUMMARY:Swansea City AFC vs Preston North End FC
DESCRIPTION:WhenKickoff reminder for Swansea City AFC vs Preston North End FC
URL:https://whenkickoff.com/en/match/swansea-city-afc-vs-preston-north-end-fc-541112/
BEGIN:VALARM
TRIGGER:-PT15M
ACTION:DISPLAY
DESCRIPTION:Match starts soon
END:VALARM
END:VEVENT
END:VCALENDAR
