BEGIN:VCALENDAR
VERSION:2.0
PRODID:-//WhenKickoff//Match Reminder//EN
BEGIN:VEVENT
UID:wk-541110-15@whenkickoff.com
DTSTAMP:20260420T000942Z
DTSTART:20260224T200000Z
DTEND:20260224T220000Z
SUMMARY:Southampton FC vs Queens Park Rangers FC
DESCRIPTION:WhenKickoff reminder for Southampton FC vs Queens Park Rangers FC
URL:https://whenkickoff.com/en/match/southampton-fc-vs-queens-park-rangers-fc-541110/
BEGIN:VALARM
TRIGGER:-PT15M
ACTION:DISPLAY
DESCRIPTION:Match starts soon
END:VALARM
END:VEVENT
END:VCALENDAR
