BEGIN:VCALENDAR
VERSION:2.0
PRODID:-//WhenKickoff//Match Reminder//EN
BEGIN:VEVENT
UID:wk-541109-15@whenkickoff.com
DTSTAMP:20260419T234147Z
DTSTART:20260224T194500Z
DTEND:20260224T214500Z
SUMMARY:Middlesbrough FC vs Leicester City FC
DESCRIPTION:WhenKickoff reminder for Middlesbrough FC vs Leicester City FC
URL:https://whenkickoff.com/en/match/middlesbrough-fc-vs-leicester-city-fc-541109/
BEGIN:VALARM
TRIGGER:-PT15M
ACTION:DISPLAY
DESCRIPTION:Match starts soon
END:VALARM
END:VEVENT
END:VCALENDAR
