BEGIN:VCALENDAR
VERSION:2.0
PRODID:-//WhenKickoff//Match Reminder//EN
BEGIN:VEVENT
UID:wk-541108-15@whenkickoff.com
DTSTAMP:20260419T234142Z
DTSTART:20260224T194500Z
DTEND:20260224T214500Z
SUMMARY:Hull City AFC vs Derby County FC
DESCRIPTION:WhenKickoff reminder for Hull City AFC vs Derby County FC
URL:https://whenkickoff.com/en/match/hull-city-afc-vs-derby-county-fc-541108/
BEGIN:VALARM
TRIGGER:-PT15M
ACTION:DISPLAY
DESCRIPTION:Match starts soon
END:VALARM
END:VEVENT
END:VCALENDAR
