BEGIN:VCALENDAR
VERSION:2.0
PRODID:-//WhenKickoff//Match Reminder//EN
BEGIN:VEVENT
UID:wk-541107-15@whenkickoff.com
DTSTAMP:20260419T234146Z
DTSTART:20260221T150000Z
DTEND:20260221T170000Z
SUMMARY:Wrexham AFC vs Ipswich Town FC
DESCRIPTION:WhenKickoff reminder for Wrexham AFC vs Ipswich Town FC
URL:https://whenkickoff.com/en/match/wrexham-afc-vs-ipswich-town-fc-541107/
BEGIN:VALARM
TRIGGER:-PT15M
ACTION:DISPLAY
DESCRIPTION:Match starts soon
END:VALARM
END:VEVENT
END:VCALENDAR
