BEGIN:VCALENDAR
VERSION:2.0
PRODID:-//WhenKickoff//Match Reminder//EN
BEGIN:VEVENT
UID:wk-541100-15@whenkickoff.com
DTSTAMP:20260420T000209Z
DTSTART:20260221T150000Z
DTEND:20260221T170000Z
SUMMARY:Norwich City FC vs Birmingham City FC
DESCRIPTION:WhenKickoff reminder for Norwich City FC vs Birmingham City FC
URL:https://whenkickoff.com/en/match/norwich-city-fc-vs-birmingham-city-fc-541100/
BEGIN:VALARM
TRIGGER:-PT15M
ACTION:DISPLAY
DESCRIPTION:Match starts soon
END:VALARM
END:VEVENT
END:VCALENDAR
