BEGIN:VCALENDAR
VERSION:2.0
PRODID:-//WhenKickoff//Match Reminder//EN
BEGIN:VEVENT
UID:wk-541099-15@whenkickoff.com
DTSTAMP:20260420T000210Z
DTSTART:20260221T150000Z
DTEND:20260221T170000Z
SUMMARY:Millwall FC vs Portsmouth FC
DESCRIPTION:WhenKickoff reminder for Millwall FC vs Portsmouth FC
URL:https://whenkickoff.com/en/match/millwall-fc-vs-portsmouth-fc-541099/
BEGIN:VALARM
TRIGGER:-PT15M
ACTION:DISPLAY
DESCRIPTION:Match starts soon
END:VALARM
END:VEVENT
END:VCALENDAR
