BEGIN:VCALENDAR
VERSION:2.0
PRODID:-//WhenKickoff//Match Reminder//EN
BEGIN:VEVENT
UID:wk-541096-15@whenkickoff.com
DTSTAMP:20260420T000209Z
DTSTART:20260220T200000Z
DTEND:20260220T220000Z
SUMMARY:Blackburn Rovers FC vs Preston North End FC
DESCRIPTION:WhenKickoff reminder for Blackburn Rovers FC vs Preston North End FC
URL:https://whenkickoff.com/en/match/blackburn-rovers-fc-vs-preston-north-end-fc-541096/
BEGIN:VALARM
TRIGGER:-PT15M
ACTION:DISPLAY
DESCRIPTION:Match starts soon
END:VALARM
END:VEVENT
END:VCALENDAR
